BEGIN:VCALENDAR
VERSION:2.0
PRODID:-//ChamberMaster//Event Calendar 2.0//EN
METHOD:PUBLISH
X-PUBLISHED-TTL:P3D
REFRESH-INTERVAL:P3D
CALSCALE:GREGORIAN
BEGIN:VEVENT
DTSTART:20170519T213000Z
DTEND:20170519T230000Z
X-MICROSOFT-CDO-ALLDAYEVENT:FALSE
SUMMARY:CAVA Reception
DESCRIPTION:Reception to showcase exhibitors art work.
X-ALT-DESC;FMTTYPE=text/html:Reception to showcase exhibitors art work.
LOCATION:210 West Buford Street
UID:e.1277.3027
SEQUENCE:3
DTSTAMP:20260426T000309Z
URL:http://services.cherokeechamber.org/events/details/cava-reception-3027
END:VEVENT

END:VCALENDAR
