BEGIN:VCALENDAR
VERSION:2.0
PRODID:-//ChamberMaster//Event Calendar 2.0//EN
METHOD:PUBLISH
X-PUBLISHED-TTL:P3D
REFRESH-INTERVAL:P3D
CALSCALE:GREGORIAN
BEGIN:VEVENT
DTSTART;VALUE=DATE:20190114
DTEND;VALUE=DATE:20190216
TRANSP:TRANSPARENT
X-MICROSOFT-CDO-ALLDAYEVENT:TRUE
SUMMARY:CAVA presents The Selfie Show
DESCRIPTION:Features photographs by Cherokee County Middle School\, High School and College Students\n\nReception: January 18\, 6:00 - 8:00 PM
X-ALT-DESC;FMTTYPE=text/html:Features photographs by Cherokee County Middle School\, High School and College Students<br />\nReception: January 18\, 6:00 - 8:00 PM
LOCATION:Gaffney Visitors Center and Art Gallery 210 Frederick Street\, Gaffney\, SC
UID:e.1277.4538
SEQUENCE:3
DTSTAMP:20260424T194205Z
URL:http://services.cherokeechamber.org/events/details/cava-presents-the-selfie-show-4538
END:VEVENT

END:VCALENDAR
