BEGIN:VCALENDAR
VERSION:2.0
PRODID:-//ChamberMaster//Event Calendar 2.0//EN
METHOD:PUBLISH
X-PUBLISHED-TTL:P3D
REFRESH-INTERVAL:P3D
CALSCALE:GREGORIAN
BEGIN:VEVENT
DTSTART;VALUE=DATE:20180802
DTEND;VALUE=DATE:20180830
TRANSP:TRANSPARENT
X-MICROSOFT-CDO-ALLDAYEVENT:TRUE
SUMMARY:CAVA Highlights the Work of 9 Members
DESCRIPTION:CAVA Highlights the work of 9 members August 2 - 29 with a reception held Thursday\, August 9\, 5:30 PM - 7:30 PM
X-ALT-DESC;FMTTYPE=text/html:CAVA Highlights the work of 9 members August 2 - 29 with a reception held Thursday\, August 9\, 5:30 PM - 7:30 PM&nbsp\;
LOCATION:Gaffney Visitors Center and Art Gallery\, 210 W. Frederick Street\, Gaffney\, SC
UID:e.1277.4338
SEQUENCE:3
DTSTAMP:20260425T041527Z
URL:http://services.cherokeechamber.org/events/details/cava-highlihgts-the-work-of-9-members-4338
END:VEVENT

END:VCALENDAR
