BEGIN:VCALENDAR
VERSION:2.0
PRODID:-//ChamberMaster//Event Calendar 2.0//EN
METHOD:PUBLISH
X-PUBLISHED-TTL:P3D
REFRESH-INTERVAL:P3D
CALSCALE:GREGORIAN
BEGIN:VEVENT
DTSTART;VALUE=DATE:20170519
DTEND;VALUE=DATE:20170622
TRANSP:TRANSPARENT
X-MICROSOFT-CDO-ALLDAYEVENT:TRUE
SUMMARY:CAVA Exhibit of Student\, Amatuerand Professioal Artists
DESCRIPTION:An exhibit for children\, students\, adults\, amateurs and professionals art work.
X-ALT-DESC;FMTTYPE=text/html:An exhibit for children\, students\, adults\, amateurs and professionals art work.
LOCATION:210 West Frederick Street
UID:e.1277.3026
SEQUENCE:3
DTSTAMP:20260426T000928Z
URL:http://services.cherokeechamber.org/events/details/cava-exhibit-of-student-amatuerand-professioal-artists-3026
END:VEVENT

END:VCALENDAR
