BEGIN:VCALENDAR
VERSION:2.0
PRODID:-//ChamberMaster//Event Calendar 2.0//EN
METHOD:PUBLISH
X-PUBLISHED-TTL:P3D
REFRESH-INTERVAL:P3D
CALSCALE:GREGORIAN
BEGIN:VEVENT
DTSTART:20181116T230000Z
DTEND:20181117T003000Z
X-MICROSOFT-CDO-ALLDAYEVENT:FALSE
SUMMARY:CAVA "Deck the Walls" Reception
DESCRIPTION:
X-ALT-DESC;FMTTYPE=text/html:
LOCATION:
UID:e.1277.4522
SEQUENCE:3
DTSTAMP:20260424T234901Z
URL:http://services.cherokeechamber.org/events/details/cava-deck-the-walls-reception-4522
END:VEVENT

END:VCALENDAR
