BEGIN:VCALENDAR
VERSION:2.0
PRODID:-//ChamberMaster//Event Calendar 2.0//EN
METHOD:PUBLISH
X-PUBLISHED-TTL:P3D
REFRESH-INTERVAL:P3D
CALSCALE:GREGORIAN
BEGIN:VEVENT
DTSTART:20181108T150000Z
DTEND:20190103T210000Z
X-MICROSOFT-CDO-ALLDAYEVENT:FALSE
SUMMARY:CAVA "Deck the Walls"
DESCRIPTION:8th Annual Holiday Art Exhibit and Sale
X-ALT-DESC;FMTTYPE=text/html:8th Annual Holiday Art Exhibit and Sale
LOCATION:CAVA 210 W. Frederick St.\, Gaffney\, SC
UID:e.1277.4521
SEQUENCE:3
DTSTAMP:20260424T210636Z
URL:http://services.cherokeechamber.org/events/details/cava-deck-the-walls-4521
END:VEVENT

END:VCALENDAR
