BEGIN:VCALENDAR
VERSION:2.0
PRODID:-//ChamberMaster//Event Calendar 2.0//EN
METHOD:PUBLISH
X-PUBLISHED-TTL:P3D
REFRESH-INTERVAL:P3D
CALSCALE:GREGORIAN
BEGIN:VEVENT
DTSTART:20190314T220000Z
DTEND:20190315T000000Z
X-MICROSOFT-CDO-ALLDAYEVENT:FALSE
SUMMARY:CAVA Black & White with a POP reception
DESCRIPTION:Suggested Attire: Black and White with a POP
X-ALT-DESC;FMTTYPE=text/html:Suggested Attire: Black and White with a POP
LOCATION:210 W. Frederick St.\, GAffney\, SC
UID:e.1277.4564
SEQUENCE:3
DTSTAMP:20260424T183514Z
URL:http://services.cherokeechamber.org/events/details/cava-black-white-with-a-pop-reception-4564
END:VEVENT

END:VCALENDAR
