BEGIN:VCALENDAR
VERSION:2.0
PRODID:-//ChamberMaster//Event Calendar 2.0//EN
METHOD:PUBLISH
X-PUBLISHED-TTL:P3D
REFRESH-INTERVAL:P3D
CALSCALE:GREGORIAN
BEGIN:VEVENT
DTSTART:20170615T220000Z
DTEND:20170616T000000Z
X-MICROSOFT-CDO-ALLDAYEVENT:FALSE
SUMMARY:Calligraphy Classes
DESCRIPTION:Calligraphy Class
X-ALT-DESC;FMTTYPE=text/html:Calligraphy Class
LOCATION:The Cherokee County History and Arts Museum Event Hall 301 College Drive
UID:e.1277.3030
SEQUENCE:3
DTSTAMP:20260425T224413Z
URL:http://services.cherokeechamber.org/events/details/calligraphy-classes-3030
END:VEVENT

END:VCALENDAR
