BEGIN:VCALENDAR
VERSION:2.0
PRODID:-//ChamberMaster//Event Calendar 2.0//EN
METHOD:PUBLISH
X-PUBLISHED-TTL:P3D
REFRESH-INTERVAL:P3D
CALSCALE:GREGORIAN
BEGIN:VEVENT
DTSTART:20190117T223000Z
DTEND:20190118T000000Z
X-MICROSOFT-CDO-ALLDAYEVENT:FALSE
SUMMARY:Business After Hours Spotlight on Nonprofits
DESCRIPTION:
X-ALT-DESC;FMTTYPE=text/html:
LOCATION:Cherokee County Family YMCA 390 Whelchel Rd.\, Gaffney\, SC
UID:e.1277.4530
SEQUENCE:3
DTSTAMP:20260424T210641Z
URL:http://services.cherokeechamber.org/events/details/business-after-hours-spotlight-on-nonprofits-4530
END:VEVENT

END:VCALENDAR
