BEGIN:VCALENDAR
VERSION:2.0
PRODID:-//ChamberMaster//Event Calendar 2.0//EN
METHOD:PUBLISH
X-PUBLISHED-TTL:P3D
REFRESH-INTERVAL:P3D
CALSCALE:GREGORIAN
BEGIN:VEVENT
DTSTART:20180215T223000Z
DTEND:20180216T000000Z
X-MICROSOFT-CDO-ALLDAYEVENT:FALSE
SUMMARY:Business After Hours/ Meet the New President of Limestone College
DESCRIPTION:Meet the New President of Limestone College Dr. Darrell Parker\n\n Business After Hours Hosted by  Cherokee County Chamber of Commerce and Limestone College
X-ALT-DESC;FMTTYPE=text/html:Meet the New President of Limestone College Dr. Darrell Parker<br />\n&#8203\;Business After Hours Hosted by&nbsp\; Cherokee County Chamber of Commerce and Limestone College
LOCATION:Winnie Davis Hall of History Limestone College Campus 1115 College Drive
UID:e.1277.3069
SEQUENCE:3
DTSTAMP:20260425T141050Z
URL:http://services.cherokeechamber.org/events/details/business-after-hours-meet-the-new-president-of-limestone-college-3069
END:VEVENT

END:VCALENDAR
