BEGIN:VCALENDAR
VERSION:2.0
PRODID:-//ChamberMaster//Event Calendar 2.0//EN
METHOD:PUBLISH
X-PUBLISHED-TTL:P3D
REFRESH-INTERVAL:P3D
CALSCALE:GREGORIAN
BEGIN:VEVENT
DTSTART:20181018T213000Z
DTEND:20181018T230000Z
X-MICROSOFT-CDO-ALLDAYEVENT:FALSE
SUMMARY:Business After Hours
DESCRIPTION:Business After Hours\n\nHosted by Broad River Electric Cooperative and Holly Grove Caterine
X-ALT-DESC;FMTTYPE=text/html:Business After Hours<br />\nHosted by Broad River Electric Cooperative and Holly Grove Caterine
LOCATION:Holly Grove Catering Blacksburg\, SC
UID:e.1277.4488
SEQUENCE:3
DTSTAMP:20260425T011025Z
URL:http://services.cherokeechamber.org/events/details/business-after-hours-4488
END:VEVENT

END:VCALENDAR
