BEGIN:VCALENDAR
VERSION:2.0
PRODID:-//ChamberMaster//Event Calendar 2.0//EN
METHOD:PUBLISH
X-PUBLISHED-TTL:P3D
REFRESH-INTERVAL:P3D
CALSCALE:GREGORIAN
BEGIN:VEVENT
DTSTART:20180816T210000Z
DTEND:20180816T233000Z
X-MICROSOFT-CDO-ALLDAYEVENT:FALSE
SUMMARY:Business After Hours
DESCRIPTION:Business After Hours is happening Thursday\, August 16\, 5:30 - 7:00 PM at 122 E. Robinson Street\, Gaffney\, SC\n\nWe hope to see you there!
X-ALT-DESC;FMTTYPE=text/html:Business After Hours is happening Thursday\, August 16\, 5:30 - 7:00 PM at 122 E. Robinson Street\, Gaffney\, SC<br />\nWe hope to see you there!&nbsp\;
LOCATION:
UID:e.1277.4335
SEQUENCE:3
DTSTAMP:20260425T041424Z
URL:http://services.cherokeechamber.org/events/details/business-after-hours-4335
END:VEVENT

END:VCALENDAR
