BEGIN:VCALENDAR
VERSION:2.0
PRODID:-//ChamberMaster//Event Calendar 2.0//EN
METHOD:PUBLISH
X-PUBLISHED-TTL:P3D
REFRESH-INTERVAL:P3D
CALSCALE:GREGORIAN
BEGIN:VEVENT
DTSTART:20170518T213000Z
DTEND:20170518T230000Z
X-MICROSOFT-CDO-ALLDAYEVENT:FALSE
SUMMARY:Business After Hours
DESCRIPTION:Business After Hours Hosted By Capri on Main
X-ALT-DESC;FMTTYPE=text/html:Business After Hours Hosted By Capri on Main
LOCATION:302 N. Limestone St Gaffney SC 29341
UID:e.1277.3017
SEQUENCE:3
DTSTAMP:20260426T000345Z
URL:http://services.cherokeechamber.org/events/details/business-after-hours-3017
END:VEVENT

END:VCALENDAR
