BEGIN:VCALENDAR
VERSION:2.0
PRODID:-//ChamberMaster//Event Calendar 2.0//EN
METHOD:PUBLISH
X-PUBLISHED-TTL:P3D
REFRESH-INTERVAL:P3D
CALSCALE:GREGORIAN
BEGIN:VEVENT
DTSTART:20171026T213000Z
DTEND:20171026T230000Z
X-MICROSOFT-CDO-ALLDAYEVENT:FALSE
SUMMARY:Businee After Hours
DESCRIPTION:Business After Hours
X-ALT-DESC;FMTTYPE=text/html:Business After Hours
LOCATION:Broad River Electric Cooperative 811 Hamrick Street Gaffney\, SC 29340
UID:e.1277.3047
SEQUENCE:3
DTSTAMP:20260425T172940Z
URL:http://services.cherokeechamber.org/events/details/businee-after-hours-3047
END:VEVENT

END:VCALENDAR
