BEGIN:VCALENDAR
VERSION:2.0
PRODID:-//ChamberMaster//Event Calendar 2.0//EN
METHOD:PUBLISH
X-PUBLISHED-TTL:P3D
REFRESH-INTERVAL:P3D
CALSCALE:GREGORIAN
BEGIN:VEVENT
DTSTART:20230909T130000Z
DTEND:20230909T210000Z
X-MICROSOFT-CDO-ALLDAYEVENT:FALSE
SUMMARY:Burns Chevrolet's 100 Year Anniversary Celebration
DESCRIPTION:Join us on September 9 to celebrate our 100 year anniversary serving the Upstate! This family-friendly event at our Gaffney dealership will include local food truck Delicias Verito\, FREE Kona Ice\, and bouncy houses and other inflatables for kids. And don't miss the check presentation to Meals on Wheels of Cherokee County following our 100 Days of Giving! All of our guests are invited to test drive our inventory of new Chevrolets\, such as the redesigned Blazer\, Trax\, and Trailblazer.
X-ALT-DESC;FMTTYPE=text/html:Join us on September 9 to celebrate our 100 year anniversary serving the Upstate! This family-friendly event at our Gaffney dealership will include local food truck Delicias Verito\, FREE Kona Ice\, and bouncy houses and other inflatables for kids. And don&rsquo\;t miss the check presentation to Meals on Wheels of Cherokee County following our 100 Days of Giving! All of our guests are invited to test drive our inventory of new Chevrolets\, such as the redesigned Blazer\, Trax\, and Trailblazer.
LOCATION:Burns Chevrolet of Gaffney 101 Peachoid Road Gaffney\, SC 29341
UID:e.1277.7552
SEQUENCE:3
DTSTAMP:20260421T025434Z
URL:http://services.cherokeechamber.org/events/details/burns-chevrolet-s-100-year-anniversary-celebration-7552
END:VEVENT

END:VCALENDAR
