BEGIN:VCALENDAR
VERSION:2.0
PRODID:-//ChamberMaster//Event Calendar 2.0//EN
METHOD:PUBLISH
X-PUBLISHED-TTL:P3D
REFRESH-INTERVAL:P3D
CALSCALE:GREGORIAN
BEGIN:VEVENT
DTSTART:20181027T200000Z
DTEND:20181027T220000Z
X-MICROSOFT-CDO-ALLDAYEVENT:FALSE
SUMMARY:Brookview House Octoberfest
DESCRIPTION:Free Games - Free Face Painting - Free Inflatables - Prizes - Concessions\n\nEvery Child is a Winner - Children Costumes Welcomed - Safe Fun for Everyone
X-ALT-DESC;FMTTYPE=text/html:<p>Free Games - Free Face Painting&nbsp\;- Free Inflatables&nbsp\;- Prizes&nbsp\;- Concessions</p>\n\n<p>Every Child is a Winner - Children Costumes Welcomed -&nbsp\;Safe Fun for Everyone</p>\n
LOCATION:510 Thompson Street\, Gaffney\, SC
UID:e.1277.4511
SEQUENCE:3
DTSTAMP:20260425T011025Z
URL:http://services.cherokeechamber.org/events/details/brookview-house-octoberfest-4511
END:VEVENT

END:VCALENDAR
