BEGIN:VCALENDAR
VERSION:2.0
PRODID:-//ChamberMaster//Event Calendar 2.0//EN
METHOD:PUBLISH
X-PUBLISHED-TTL:P3D
REFRESH-INTERVAL:P3D
CALSCALE:GREGORIAN
BEGIN:VEVENT
DTSTART:20171209T130000Z
DTEND:20171209T160000Z
X-MICROSOFT-CDO-ALLDAYEVENT:FALSE
SUMMARY:Breakfast With Santa
DESCRIPTION:Breakfast with Santa\n\n Cherokee County Chamber of Commerce Junior Ambassadors
X-ALT-DESC;FMTTYPE=text/html:Breakfast with Santa<br />\n&#8203\;Cherokee County Chamber of Commerce Junior Ambassadors
LOCATION:Kirby Baptist Church 512 Chandler Drive
UID:e.1277.3061
SEQUENCE:3
DTSTAMP:20260425T151025Z
URL:http://services.cherokeechamber.org/events/details/breakfast-with-santa-3061
END:VEVENT

END:VCALENDAR
