BEGIN:VCALENDAR
VERSION:2.0
PRODID:-//ChamberMaster//Event Calendar 2.0//EN
METHOD:PUBLISH
X-PUBLISHED-TTL:P3D
REFRESH-INTERVAL:P3D
CALSCALE:GREGORIAN
BEGIN:VEVENT
DTSTART:20170509T113000Z
DTEND:20170509T130000Z
X-MICROSOFT-CDO-ALLDAYEVENT:FALSE
SUMMARY:Breakfast Before Hours Hosted by Woodforest Bank
DESCRIPTION:Business Before Hours\, Hosted by Woodforest National Bank
X-ALT-DESC;FMTTYPE=text/html:Business Before Hours\, Hosted by Woodforest National&nbsp\;Bank
LOCATION:Business Generator 301 N Limestone St Gaffney\, SC 29340
UID:e.1277.3015
SEQUENCE:3
DTSTAMP:20260426T000401Z
URL:http://services.cherokeechamber.org/events/details/breakfast-before-hours-hosted-by-woodforest-bank-3015
END:VEVENT

END:VCALENDAR
