BEGIN:VCALENDAR
VERSION:2.0
PRODID:-//ChamberMaster//Event Calendar 2.0//EN
METHOD:PUBLISH
X-PUBLISHED-TTL:P3D
REFRESH-INTERVAL:P3D
CALSCALE:GREGORIAN
BEGIN:VEVENT
DTSTART:20180210T180000Z
DTEND:20180211T030000Z
X-MICROSOFT-CDO-ALLDAYEVENT:FALSE
SUMMARY:BPO Elks 150th Anniverdary Celebration
DESCRIPTION:BPO Elks 150th Anniversary Celebration
X-ALT-DESC;FMTTYPE=text/html:BPO Elks 150th Anniversary Celebration
LOCATION:Gaffney Elk's Lodge 1305 103 West O'Neal Street
UID:e.1277.3074
SEQUENCE:3
DTSTAMP:20260425T124151Z
URL:http://services.cherokeechamber.org/events/details/bpo-elks-150th-anniverdary-celebration-3074
END:VEVENT

END:VCALENDAR
