BEGIN:VCALENDAR
VERSION:2.0
PRODID:-//ChamberMaster//Event Calendar 2.0//EN
METHOD:PUBLISH
X-PUBLISHED-TTL:P3D
REFRESH-INTERVAL:P3D
CALSCALE:GREGORIAN
BEGIN:VEVENT
DTSTART:20170801T153000Z
DTEND:20170801T180000Z
X-MICROSOFT-CDO-ALLDAYEVENT:FALSE
SUMMARY:Blood Drive at Magnoliasof Gaffney
DESCRIPTION:The Blood Connection\n\nBlood Donors\n\n All donors receive a $10.00 Chick-fil-A Gift Card & 200 TBC Points!
X-ALT-DESC;FMTTYPE=text/html:The Blood Connection<br />\nBlood Donors<br />\n&#8203\;All donors receive a $10.00 Chick-fil-A Gift Card &amp\; 200 TBC Points!&nbsp\;
LOCATION:Magnolias of Gaffney 223 Tiffany Park Dr. Gaffney SC 29341
UID:e.1277.3035
SEQUENCE:3
DTSTAMP:20260425T201526Z
URL:http://services.cherokeechamber.org/events/details/blood-drive-at-magnoliasof-gaffney-3035
END:VEVENT

END:VCALENDAR
