BEGIN:VCALENDAR
VERSION:2.0
PRODID:-//ChamberMaster//Event Calendar 2.0//EN
METHOD:PUBLISH
X-PUBLISHED-TTL:P3D
REFRESH-INTERVAL:P3D
CALSCALE:GREGORIAN
BEGIN:VEVENT
DTSTART:20190227T180000Z
DTEND:20190227T210000Z
X-MICROSOFT-CDO-ALLDAYEVENT:FALSE
SUMMARY:Blood Drive at Magnolias of Gaffney
DESCRIPTION:Blood Drive at Magnolias of Gaffney
X-ALT-DESC;FMTTYPE=text/html:Blood Drive at Magnolias of Gaffney
LOCATION:101 Park Court\, Gaffney\, SC
UID:e.1277.4545
SEQUENCE:3
DTSTAMP:20260424T194603Z
URL:http://services.cherokeechamber.org/events/details/blood-drive-at-magnolias-of-gaffney-4545
END:VEVENT

END:VCALENDAR
