BEGIN:VCALENDAR
VERSION:2.0
PRODID:-//ChamberMaster//Event Calendar 2.0//EN
METHOD:PUBLISH
X-PUBLISHED-TTL:P3D
REFRESH-INTERVAL:P3D
CALSCALE:GREGORIAN
BEGIN:VEVENT
DTSTART:20180110T000000Z
DTEND:20180110T020000Z
X-MICROSOFT-CDO-ALLDAYEVENT:FALSE
SUMMARY:Blacksburg Town Council Meeting
DESCRIPTION:Blacksburg Town Council Meeting
X-ALT-DESC;FMTTYPE=text/html:Blacksburg Town Council Meeting
LOCATION:Blacksburg Town Hall
UID:e.1277.375
SEQUENCE:3
DTSTAMP:20260425T151628Z
URL:http://services.cherokeechamber.org/events/details/blacksburg-town-council-meeting-01-09-2018-375
END:VEVENT

END:VCALENDAR
