BEGIN:VCALENDAR
VERSION:2.0
PRODID:-//ChamberMaster//Event Calendar 2.0//EN
METHOD:PUBLISH
X-PUBLISHED-TTL:P3D
REFRESH-INTERVAL:P3D
CALSCALE:GREGORIAN
BEGIN:VEVENT
DTSTART:20190307T170000Z
DTEND:20190307T190000Z
X-MICROSOFT-CDO-ALLDAYEVENT:FALSE
SUMMARY:Bestselling Author Susan Crandall at the Library
DESCRIPTION:The Cherokee County Public Library presents Bestselling Author Susan Crandall
X-ALT-DESC;FMTTYPE=text/html:The Cherokee County Public Library presents Bestselling Author Susan Crandall
LOCATION:300 E. Rutledge Ave.\, Gaffney\, SC
UID:e.1277.4549
SEQUENCE:3
DTSTAMP:20260424T183716Z
URL:http://services.cherokeechamber.org/events/details/bestselling-author-susan-crandall-at-the-library-4549
END:VEVENT

END:VCALENDAR
