BEGIN:VCALENDAR
VERSION:2.0
PRODID:-//ChamberMaster//Event Calendar 2.0//EN
METHOD:PUBLISH
X-PUBLISHED-TTL:P3D
REFRESH-INTERVAL:P3D
CALSCALE:GREGORIAN
BEGIN:VEVENT
DTSTART:20180326T210000Z
DTEND:20180327T000000Z
X-MICROSOFT-CDO-ALLDAYEVENT:FALSE
SUMMARY:Basic Literacy Workshop
DESCRIPTION:The Cherokee County Literacy Association will hold a six-hour tutor workshop on Monday\, March 26 from 5:00 PM until 8:00 PM and Tuesday\, March 27 from 5:00 PM until 8:00 PM.\n\n\n\nOnce the sessions and 12-hours of tutoring have been completed\, the participants will be certified to tutor for the Cherokee County Literacy Association and will be certified in the Laubach Way to Reading.
X-ALT-DESC;FMTTYPE=text/html:The Cherokee County Literacy Association will hold a six-hour tutor workshop on Monday\, March 26 from 5:00 PM until 8:00 PM and Tuesday\, March 27 from 5:00 PM until 8:00 PM.<br />\n<br />\nOnce the sessions and 12-hours of tutoring have been completed\, the participants will be certified to tutor for the Cherokee County Literacy Association and will be certified in the Laubach Way to Reading.
LOCATION:Cherokee County Literacy Association 409 W. Buford Street\, Gaffney\, SC
UID:e.1277.3091
SEQUENCE:3
DTSTAMP:20260425T111914Z
URL:http://services.cherokeechamber.org/events/details/basic-literacy-workshop-3091
END:VEVENT

END:VCALENDAR
