BEGIN:VCALENDAR
VERSION:2.0
PRODID:-//ChamberMaster//Event Calendar 2.0//EN
METHOD:PUBLISH
X-PUBLISHED-TTL:P3D
REFRESH-INTERVAL:P3D
CALSCALE:GREGORIAN
BEGIN:VEVENT
DTSTART:20170518T170000Z
DTEND:20170518T190000Z
X-MICROSOFT-CDO-ALLDAYEVENT:FALSE
SUMMARY:Author Signing at Cherokee County Public Library
DESCRIPTION:Author Signing- Dorothea Benton Frank
X-ALT-DESC;FMTTYPE=text/html:Author Signing- Dorothea Benton Frank
LOCATION:Cherokee County Public Library 300 East Rutledge Gaffney SC 29340
UID:e.1277.3024
SEQUENCE:3
DTSTAMP:20260426T000401Z
URL:http://services.cherokeechamber.org/events/details/author-signing-at-cherokee-county-public-library-3024
END:VEVENT

END:VCALENDAR
