BEGIN:VCALENDAR
VERSION:2.0
PRODID:-//ChamberMaster//Event Calendar 2.0//EN
METHOD:PUBLISH
X-PUBLISHED-TTL:P3D
REFRESH-INTERVAL:P3D
CALSCALE:GREGORIAN
BEGIN:VEVENT
DTSTART:20190104T223000Z
DTEND:20190105T040000Z
X-MICROSOFT-CDO-ALLDAYEVENT:FALSE
SUMMARY:ATWA Teen Night
DESCRIPTION:ATWA TEEN NIGHT
X-ALT-DESC;FMTTYPE=text/html:ATWA TEEN NIGHT
LOCATION:122 E. Robinson Street Gaffney\, SC
UID:e.1277.4533
SEQUENCE:3
DTSTAMP:20260424T210807Z
URL:http://services.cherokeechamber.org/events/details/atwa-teen-night-4533
END:VEVENT

END:VCALENDAR
