BEGIN:VCALENDAR
VERSION:2.0
PRODID:-//ChamberMaster//Event Calendar 2.0//EN
METHOD:PUBLISH
X-PUBLISHED-TTL:P3D
REFRESH-INTERVAL:P3D
CALSCALE:GREGORIAN
BEGIN:VEVENT
DTSTART:20190202T160000Z
DTEND:20190202T190000Z
X-MICROSOFT-CDO-ALLDAYEVENT:FALSE
SUMMARY:ATWA Senior Day
DESCRIPTION:ATWA Senior Citizen Day\n\nFREE Bingo 11-2\n\nFREE Lunch 12-2
X-ALT-DESC;FMTTYPE=text/html:ATWA Senior Citizen Day<br />\nFREE Bingo 11-2<br />\nFREE Lunch 12-2&nbsp\;&nbsp\;&nbsp\;&nbsp\;
LOCATION:Academic Technology and Wellness Academy 122 E. Robinson St.\, Gaffney\, SC
UID:e.1277.4539
SEQUENCE:3
DTSTAMP:20260424T194137Z
URL:http://services.cherokeechamber.org/events/details/atwa-senior-day-4539
END:VEVENT

END:VCALENDAR
