BEGIN:VCALENDAR
VERSION:2.0
PRODID:-//ChamberMaster//Event Calendar 2.0//EN
METHOD:PUBLISH
X-PUBLISHED-TTL:P3D
REFRESH-INTERVAL:P3D
CALSCALE:GREGORIAN
BEGIN:VEVENT
DTSTART:20181019T200000Z
DTEND:20181020T000000Z
X-MICROSOFT-CDO-ALLDAYEVENT:FALSE
SUMMARY:ATWA's Fall Festival
DESCRIPTION:Inflatables\, haunted house\, prizes\, concession stands...a $5 wrist band includes one trip through the haunted house\, plus unlimited games!
X-ALT-DESC;FMTTYPE=text/html:Inflatables\, haunted house\, prizes\, concession stands...a $5 wrist band includes one trip through the haunted house\, plus unlimited games!
LOCATION:Academic Technology and Wellness Academy 122 E. Robinson St. Gaffney\, SC
UID:e.1277.4510
SEQUENCE:3
DTSTAMP:20260425T011128Z
URL:http://services.cherokeechamber.org/events/details/atwa-s-fall-festival-4510
END:VEVENT

END:VCALENDAR
