BEGIN:VCALENDAR
VERSION:2.0
PRODID:-//ChamberMaster//Event Calendar 2.0//EN
METHOD:PUBLISH
X-PUBLISHED-TTL:P3D
REFRESH-INTERVAL:P3D
CALSCALE:GREGORIAN
BEGIN:VEVENT
DTSTART:20181023T200000Z
DTEND:20181023T220000Z
X-MICROSOFT-CDO-ALLDAYEVENT:FALSE
SUMMARY:ATWA's "Acceptance and Being a Leader and Not a Follower"
DESCRIPTION:Free and open to the public! All teens are invited ages 10-18 from the community to hear Gaffney's own Tina Dawkins Curtis\, MBA.
X-ALT-DESC;FMTTYPE=text/html:Free and open to the public! All teens are invited ages 10-18 from the community to hear Gaffney&#39\;s own Tina Dawkins Curtis\, MBA.
LOCATION:Academic Technology and Wellness Academy\, 122 E. Robinson St.\, Gaffney\, SC
UID:e.1277.4513
SEQUENCE:3
DTSTAMP:20260425T011209Z
URL:http://services.cherokeechamber.org/events/details/atwa-s-acceptance-and-being-a-leader-and-not-a-follower-4513
END:VEVENT

END:VCALENDAR
