BEGIN:VCALENDAR
VERSION:2.0
PRODID:-//ChamberMaster//Event Calendar 2.0//EN
METHOD:PUBLISH
X-PUBLISHED-TTL:P3D
REFRESH-INTERVAL:P3D
CALSCALE:GREGORIAN
BEGIN:VEVENT
DTSTART:20181006T200000Z
DTEND:20181006T220000Z
X-MICROSOFT-CDO-ALLDAYEVENT:FALSE
SUMMARY:ATWA Food Tasting
DESCRIPTION:Food tasting ...some of the finest food!!
X-ALT-DESC;FMTTYPE=text/html:Food tasting ...some of the finest food!!
LOCATION:122 E. Robinson St.\, Gaffney\, SC
UID:e.1277.4497
SEQUENCE:3
DTSTAMP:20260425T011030Z
URL:http://services.cherokeechamber.org/events/details/atwa-food-tasting-4497
END:VEVENT

END:VCALENDAR
