BEGIN:VCALENDAR
VERSION:2.0
PRODID:-//ChamberMaster//Event Calendar 2.0//EN
METHOD:PUBLISH
X-PUBLISHED-TTL:P3D
REFRESH-INTERVAL:P3D
CALSCALE:GREGORIAN
BEGIN:VEVENT
DTSTART:20181207T230000Z
DTEND:20181208T020000Z
X-MICROSOFT-CDO-ALLDAYEVENT:FALSE
SUMMARY:Annual Christmas Parade AND Christmas on Limestone
DESCRIPTION:The theme for the parade is "Silver Bells: Christmastime in the City"\n\nFor information on participating\, please contact the Gaffney Visitors Center or online at www.getintogaffney.com
X-ALT-DESC;FMTTYPE=text/html:The theme for the parade is &quot\;Silver Bells: Christmastime in the City&quot\;<br />\nFor information on participating\, please contact the Gaffney Visitors Center or online at www.getintogaffney.com
LOCATION:
UID:e.1277.4518
SEQUENCE:3
DTSTAMP:20260424T223449Z
URL:http://services.cherokeechamber.org/events/details/annual-christmas-parade-and-christmas-on-limestone-4518
END:VEVENT

END:VCALENDAR
