BEGIN:VCALENDAR
VERSION:2.0
PRODID:-//ChamberMaster//Event Calendar 2.0//EN
METHOD:PUBLISH
X-PUBLISHED-TTL:P3D
REFRESH-INTERVAL:P3D
CALSCALE:GREGORIAN
BEGIN:VEVENT
DTSTART:20180309T160000Z
DTEND:20180309T183000Z
X-MICROSOFT-CDO-ALLDAYEVENT:FALSE
SUMMARY:Altrusa 12th Annual Soup Lunch
DESCRIPTION:Altrusa International of Gaffney's Annual Fund Raiser\n\n12th Annual Soup Lunch
X-ALT-DESC;FMTTYPE=text/html:Altrusa International of Gaffney&#39\;s Annual Fund Raiser<br />\n12th Annual Soup Lunch
LOCATION:First Baptist Church Life Center 200 North Limestone Street Gaffney
UID:e.1277.3079
SEQUENCE:3
DTSTAMP:20260425T124425Z
URL:http://services.cherokeechamber.org/events/details/altrusa-12th-annual-soup-lunch-3079
END:VEVENT

END:VCALENDAR
