BEGIN:VCALENDAR
VERSION:2.0
PRODID:-//ChamberMaster//Event Calendar 2.0//EN
METHOD:PUBLISH
X-PUBLISHED-TTL:P3D
REFRESH-INTERVAL:P3D
CALSCALE:GREGORIAN
BEGIN:VEVENT
DTSTART:20170603T140000Z
DTEND:20170603T180000Z
X-MICROSOFT-CDO-ALLDAYEVENT:FALSE
SUMMARY:Alex's Lemonade Days
DESCRIPTION:Vitality Chiropractic "Alex's Lemonade Stand" Raising money for childhood cancer research.
X-ALT-DESC;FMTTYPE=text/html:<div>Vitality Chiropractic &quot\;Alex&#39\;s Lemonade Stand&quot\; Raising money for childhood cancer research.</div>\n
LOCATION:Vitality Chiropractic 829 North Limestone Street
UID:e.1277.3025
SEQUENCE:3
DTSTAMP:20260425T224424Z
URL:http://services.cherokeechamber.org/events/details/alex-s-lemonade-days-3025
END:VEVENT

END:VCALENDAR
