BEGIN:VCALENDAR
VERSION:2.0
PRODID:-//ChamberMaster//Event Calendar 2.0//EN
METHOD:PUBLISH
X-PUBLISHED-TTL:P3D
REFRESH-INTERVAL:P3D
CALSCALE:GREGORIAN
BEGIN:VEVENT
DTSTART:20190202T000000Z
DTEND:20190202T040000Z
X-MICROSOFT-CDO-ALLDAYEVENT:FALSE
SUMMARY:Academic Technology and Wellness Academy TEEN NIGHT
DESCRIPTION:
X-ALT-DESC;FMTTYPE=text/html:
LOCATION:122 E. Robinson Street\, Gaffney\, SC
UID:e.1277.4543
SEQUENCE:3
DTSTAMP:20260424T194342Z
URL:http://services.cherokeechamber.org/events/details/academic-technology-and-wellness-academy-teen-night-4543
END:VEVENT

END:VCALENDAR
