BEGIN:VCALENDAR
VERSION:2.0
PRODID:-//ChamberMaster//Event Calendar 2.0//EN
METHOD:PUBLISH
X-PUBLISHED-TTL:P3D
REFRESH-INTERVAL:P3D
CALSCALE:GREGORIAN
BEGIN:VEVENT
DTSTART:20190323T150000Z
DTEND:20190323T180000Z
X-MICROSOFT-CDO-ALLDAYEVENT:FALSE
SUMMARY:Academic Technology and Wellness Academy Senior Citizen Day
DESCRIPTION:FREE Bingo 11-2pm\n\nFREE Lunch 12-2pm
X-ALT-DESC;FMTTYPE=text/html:FREE Bingo 11-2pm<br />\nFREE Lunch 12-2pm
LOCATION:122 E. Robinson Street\, Gaffney\, SC
UID:e.1277.4570
SEQUENCE:3
DTSTAMP:20260424T201409Z
URL:http://services.cherokeechamber.org/events/details/academic-technology-and-wellness-academy-senior-citizen-day-4570
END:VEVENT

END:VCALENDAR
