BEGIN:VCALENDAR
VERSION:2.0
PRODID:-//ChamberMaster//Event Calendar 2.0//EN
METHOD:PUBLISH
X-PUBLISHED-TTL:P3D
REFRESH-INTERVAL:P3D
CALSCALE:GREGORIAN
BEGIN:VEVENT
DTSTART:20190112T133000Z
DTEND:20190112T210000Z
X-MICROSOFT-CDO-ALLDAYEVENT:FALSE
SUMMARY:Academic Technology and Wellness Academy CPR Class
DESCRIPTION:Academic Technology and Wellness Academy\n\nCPR Class\n\nContact Yolanda\, 864-490-5530\,  for required registration.
X-ALT-DESC;FMTTYPE=text/html:Academic Technology and Wellness Academy<br />\nCPR Class<br />\nContact Yolanda\, 864-490-5530\,&nbsp\; for required registration.
LOCATION:122 E. Robinson St.\, Gaffney\, SC
UID:e.1277.4534
SEQUENCE:3
DTSTAMP:20260424T210549Z
URL:http://services.cherokeechamber.org/events/details/academic-technology-and-wellness-academy-cpr-class-4534
END:VEVENT

END:VCALENDAR
