BEGIN:VCALENDAR
VERSION:2.0
PRODID:-//ChamberMaster//Event Calendar 2.0//EN
METHOD:PUBLISH
X-PUBLISHED-TTL:P3D
REFRESH-INTERVAL:P3D
CALSCALE:GREGORIAN
BEGIN:VEVENT
DTSTART:20180301T223000Z
DTEND:20180302T010000Z
X-MICROSOFT-CDO-ALLDAYEVENT:FALSE
SUMMARY:A Night at the Oscar(S)
DESCRIPTION:"A Night at the Oscar(s)"
X-ALT-DESC;FMTTYPE=text/html:&quot\;A Night at the Oscar(s)&quot\;
LOCATION:Broad River Electric 811 Hamrick Street Gaffney
UID:e.1277.3071
SEQUENCE:3
DTSTAMP:20260425T112637Z
URL:http://services.cherokeechamber.org/events/details/a-night-at-the-oscar-s-3071
END:VEVENT

END:VCALENDAR
