BEGIN:VCALENDAR
VERSION:2.0
PRODID:-//ChamberMaster//Event Calendar 2.0//EN
METHOD:PUBLISH
X-PUBLISHED-TTL:P3D
REFRESH-INTERVAL:P3D
CALSCALE:GREGORIAN
BEGIN:VEVENT
DTSTART:20180116T140000Z
DTEND:20180227T220000Z
X-MICROSOFT-CDO-ALLDAYEVENT:FALSE
SUMMARY:8 Southern African-American Artists: Past\, Present\, Future Art Exhibitn
DESCRIPTION:Art Exhibit: 8 Southern African-American Artists: Past\, Present\, Future
X-ALT-DESC;FMTTYPE=text/html:Art Exhibit: 8 Southern African-American Artists: Past\, Present\, Future
LOCATION:Gaffney Visitors Center & Art Gallery 210 W. Fredrick Street Gaffney
UID:e.1277.3066
SEQUENCE:3
DTSTAMP:20260425T124701Z
URL:http://services.cherokeechamber.org/events/details/8-southern-african-american-artists-past-present-future-art-exhibitn-3066
END:VEVENT

END:VCALENDAR
