BEGIN:VCALENDAR
VERSION:2.0
PRODID:-//ChamberMaster//Event Calendar 2.0//EN
METHOD:PUBLISH
X-PUBLISHED-TTL:P3D
REFRESH-INTERVAL:P3D
CALSCALE:GREGORIAN
BEGIN:VEVENT
DTSTART:20181208T133000Z
DTEND:20181208T170000Z
X-MICROSOFT-CDO-ALLDAYEVENT:FALSE
SUMMARY:5K Holiday Hustle Fun Run
DESCRIPTION:
X-ALT-DESC;FMTTYPE=text/html:
LOCATION:The Village School of Gaffney 200 N Limestone Street\, Gaffney\, 29340
UID:e.1277.4525
SEQUENCE:3
DTSTAMP:20260424T234900Z
URL:http://services.cherokeechamber.org/events/details/5k-holiday-hustle-fun-run-4525
END:VEVENT

END:VCALENDAR
