BEGIN:VCALENDAR
VERSION:2.0
PRODID:-//ChamberMaster//Event Calendar 2.0//EN
METHOD:PUBLISH
X-PUBLISHED-TTL:P3D
REFRESH-INTERVAL:P3D
CALSCALE:GREGORIAN
BEGIN:VEVENT
DTSTART:20170429T190000Z
DTEND:20170430T010000Z
X-MICROSOFT-CDO-ALLDAYEVENT:FALSE
SUMMARY:5k Color Run or Fun Walk Jr. Ambassadors
DESCRIPTION:Cherokee County Junior Ambassadors\n\n5k Color Run or Fun Walk\n\n For Peyton and Thomas
X-ALT-DESC;FMTTYPE=text/html:Cherokee County Junior Ambassadors<br />\n5k Color Run or Fun Walk<br />\n&#8203\;For Peyton and Thomas
LOCATION:Gaffney High School 149 Twin Lakes Rd Gaffney SC 29341
UID:e.1277.3019
SEQUENCE:3
DTSTAMP:20260426T011326Z
URL:http://services.cherokeechamber.org/events/details/5k-color-run-or-fun-walk-jr-ambassadors-3019
END:VEVENT

END:VCALENDAR
