BEGIN:VCALENDAR
VERSION:2.0
PRODID:-//ChamberMaster//Event Calendar 2.0//EN
METHOD:PUBLISH
X-PUBLISHED-TTL:P3D
REFRESH-INTERVAL:P3D
CALSCALE:GREGORIAN
BEGIN:VEVENT
DTSTART:20181004T193000Z
DTEND:20181004T223000Z
X-MICROSOFT-CDO-ALLDAYEVENT:FALSE
SUMMARY:2018 Cherokee County Community Job Fair
DESCRIPTION:A joint effort by several partners in Cherokee County with one goal and mission: to connect job seekers to employers in the area with job opportunities.\n\n\n\nVeterans will be able to enter the Job Fair 30 minutes prior at 3:00 PM. Please have a Military ID or a copy of DD214.
X-ALT-DESC;FMTTYPE=text/html:A joint effort by several partners in Cherokee County with one goal and mission: to connect job seekers to employers in the area with job opportunities.<br />\n<br />\nVeterans will be able to enter the Job Fair 30 minutes prior at 3:00 PM. Please have a Military ID or a copy of DD214.
LOCATION:Broad River Electric 811 Hamrick St. Gaffney\, SC 29340
UID:e.1277.4498
SEQUENCE:3
DTSTAMP:20260425T011138Z
URL:http://services.cherokeechamber.org/events/details/2018-cherokee-county-community-job-fair-4498
END:VEVENT

END:VCALENDAR
