BEGIN:VCALENDAR
VERSION:2.0
PRODID:-//ChamberMaster//Event Calendar 2.0//EN
METHOD:PUBLISH
X-PUBLISHED-TTL:P3D
REFRESH-INTERVAL:P3D
CALSCALE:GREGORIAN
BEGIN:VEVENT
DTSTART:20180329T223000Z
DTEND:20180330T000000Z
X-MICROSOFT-CDO-ALLDAYEVENT:FALSE
SUMMARY:2018 Annual Dinner
DESCRIPTION:Cherokee County Chamber of Commerce Annual Awards Banquet
X-ALT-DESC;FMTTYPE=text/html:Cherokee County Chamber of Commerce Annual Awards Banquet
LOCATION:Broad River Electric Cooperative Auditorium 811 Hamrick Street Gaffney
UID:e.1277.3078
SEQUENCE:3
DTSTAMP:20260425T112022Z
URL:http://services.cherokeechamber.org/events/details/2018-annual-dinner-3078
END:VEVENT

END:VCALENDAR
