BEGIN:VCALENDAR
VERSION:2.0
PRODID:-//ChamberMaster//Event Calendar 2.0//EN
METHOD:PUBLISH
X-PUBLISHED-TTL:P3D
REFRESH-INTERVAL:P3D
CALSCALE:GREGORIAN
BEGIN:VEVENT
DTSTART:20171107T210000Z
DTEND:20171107T230000Z
X-MICROSOFT-CDO-ALLDAYEVENT:FALSE
SUMMARY:10 Year Anniversary Mary Black Health System
DESCRIPTION:Mary Black Health System\n\n10 Year Anniversary Celebration
X-ALT-DESC;FMTTYPE=text/html:Mary Black Health System<br />\n10 Year Anniversary Celebration
LOCATION:Mary Black Health System 1445 N. Limestone Street Suite A Gaffney
UID:e.1277.3057
SEQUENCE:3
DTSTAMP:20260425T163430Z
URL:http://services.cherokeechamber.org/events/details/10-year-anniversary-mary-black-health-system-3057
END:VEVENT

END:VCALENDAR
